BEGIN:VCALENDAR
VERSION:2.0
PRODID:-//Sabre//Sabre VObject 4.5.8//EN
CALSCALE:GREGORIAN
BEGIN:VEVENT
UID:sabre-vobject-6ba896fb-57f4-43be-9f24-efc2f157a30f
DTSTAMP:20260419T145508Z
SUMMARY:Bluescht-Fäscht
DESCRIPTION:Altnau Tourismus lädt am 1. Mai 2026 von 10 - 16 Uhr zum tradi
 tionellen Blueschtfäscht ein. An 5 Standorten entlang der Altnauer Apfelw
 ege gibts viel zu erleben und zu geniessen. Die fünf verschiedenen Stando
 rte sind gut zu Fuss\, mit dem Velo oder der Kutsche erreichbar. Es verkeh
 rt auch ein Shuttlebus mit Haltestellen beim Camping Panorama\, beim Bahnh
 of\, bei Familie Früh (Bündtstrasse 28) beim Restaurant Schwanä\, dem F
 eierlenhof\, der Müli-Bräu und bei Familie Roth an der Seezelgstrasse 26
 .
LOCATION:8595 Altnau
DTSTART;TZID=Europe/Zurich:20260501T100000
DTEND;TZID=Europe/Zurich:20260501T160000
ORGANIZER:Altnauer Apfelweg
END:VEVENT
END:VCALENDAR
