BEGIN:VCALENDAR
VERSION:2.0
PRODID:-//Sabre//Sabre VObject 4.5.8//EN
CALSCALE:GREGORIAN
BEGIN:VEVENT
UID:sabre-vobject-7027fd4e-a827-4072-b43d-27e85a0904f9
DTSTAMP:20260421T102512Z
SUMMARY:Tavolata & Country
DESCRIPTION:Ab 18.30 Uhr Blueschtapéro &amp\; Live Musik\\nApéro (je nach
  Wetter) zwischen den Apfelbäumen\\nLive Musik mit Marc Weihermann\, Gita
 rre und Gesang – Balladen\, Blues und Rockklassiker – pur\, gefühlvol
 l und fröhlich\\n\\nTavolata mit 4-Gang Frühlingsmenu von “Wirth servi
 ert” \\n\\nKonzert für’s Herz mit Pamela Neumann\\nGute Songs erzähl
 en gute Geschichten - gesungen von einer grossen\, warmen Stimme - das bes
 chreibt Pamela Neumann\, Singer/Songwriterin aus dem Thurgau. Mit ihrer vi
 elseitigen Musik verzaubert sie ihr Publikum mal tiefgründig\, mal locker
  leicht und immer mit einem Lächeln auf den Lippen.
LOCATION:8584 Opfershofen TG
DTSTART;TZID=Europe/Zurich:20260430T183000
DTEND;TZID=Europe/Zurich:20260430T183000
ORGANIZER:Mostgut
END:VEVENT
END:VCALENDAR
