BEGIN:VCALENDAR
VERSION:2.0
PRODID:-//Sabre//Sabre VObject 4.5.8//EN
CALSCALE:GREGORIAN
BEGIN:VEVENT
UID:sabre-vobject-66e58801-1110-4172-8b39-4d9becb6d09d
DTSTAMP:20260421T091220Z
SUMMARY:umsonst & draußen - Blossbluez
DESCRIPTION:Vom klassischen Slow Blues\, swingenden Jump Blues bis zum Blue
 srock- und dabei einen unverwechselbaren\, mitreißenden Stil entwickelt\,
  dem man sich einfach nicht entziehen kann. Neben Gesang\, Gitarre und Mun
 dharmonika formen die starken Bläser den Sound. Blossbluez – die „sou
 lful funky rocking jazz blues fusion“
LOCATION:KULTUR am SEE-Bühne\, Standweg 2\, 78476 Allensbach
DTSTART;TZID=Europe/Zurich:20260602T193000
DTEND;TZID=Europe/Zurich:20260602T213000
ORGANIZER:Kultur- und Tourismusbüro Allensbach
END:VEVENT
END:VCALENDAR
