BEGIN:VCALENDAR
VERSION:2.0
PRODID:-//Sabre//Sabre VObject 4.5.8//EN
CALSCALE:GREGORIAN
BEGIN:VEVENT
UID:sabre-vobject-68bba43f-4638-4009-a2fc-8a3d7b06d962
DTSTAMP:20260421T123654Z
SUMMARY:umsonst & draußen - Tridiculous
DESCRIPTION:Geballte Kraft\, Dynamik und Humor. Die drei modernen Clowns un
 d internationale Multitalente verbinden spektakuläre Artistik und Tanz\, 
 Beatbox und Gesang\, Slapstick und Comedy. Mit Wurzeln in der Berliner Bre
 ak-Dance-Szene erzählen sie mit intelligenter Komik und Musikalität von 
 Zusammenarbeit und Vertrauen.\nMit spitzbübischem Spieltrieb brechen sie 
 Sehgewohnheiten auf\, wenn der Schwung eines Saltos zum Rhythmus wird oder
  Artistik selbst live musikalisch begleitet wird und Bewegung zu Musik und
  umgekehrt wird.\nEin schneller\, sprunggewaltiger und preisgekrönter The
 aterabend\, der rockt\, berührt\, begeistert\, lange nachhallt und seines
 gleichen sucht.
LOCATION:KULTUR am SEE-Bühne\, Standweg 2\, 78476 Allensbach
DTSTART;TZID=Europe/Zurich:20260730T193000
DTEND;TZID=Europe/Zurich:20260730T213000
ORGANIZER:Kultur- und Tourismusbüro Allensbach
END:VEVENT
END:VCALENDAR
