BEGIN:VCALENDAR
VERSION:2.0
PRODID:-//Sabre//Sabre VObject 4.5.8//EN
CALSCALE:GREGORIAN
BEGIN:VEVENT
UID:sabre-vobject-0786f495-b22a-4078-8972-46744b3a644e
DTSTAMP:20260419T145504Z
SUMMARY:Buchstart in der Büecherbrugg
DESCRIPTION:Für Eltern und Kinder zwischen 1 und 3 Jahren. Geschwisterkind
 er sind willkommen. 
LOCATION:Stadtbibliothek Büecherbrugg\, Gaissbergstrasse 8 8\, 8280 Kreuzl
 ingen
DTSTART;TZID=Europe/Zurich:20260604T143000
DTEND;TZID=Europe/Zurich:20260604T150000
ORGANIZER:Stadtbibliothek Bücherbrugg
END:VEVENT
END:VCALENDAR
