BEGIN:VCALENDAR
VERSION:2.0
PRODID:-//Sabre//Sabre VObject 4.5.8//EN
CALSCALE:GREGORIAN
BEGIN:VEVENT
UID:sabre-vobject-3fe4e6fe-71f0-4b1d-a00f-4163d47495bf
DTSTAMP:20260422T190121Z
SUMMARY:Grimbarts geheimnisvolles Leben
DESCRIPTION:Mit Hannes Geisser\, Museumsleiter
LOCATION:Naturmuseum Thurgau\, Freie Strasse 24\, 8510 Frauenfeld
DTSTART;TZID=Europe/Zurich:20260510T103000
DTEND;TZID=Europe/Zurich:20260510T113000
ORGANIZER:Naturmuseum Thurgau
END:VEVENT
END:VCALENDAR
