BEGIN:VCALENDAR
VERSION:2.0
PRODID:-//Sabre//Sabre VObject 4.5.8//EN
CALSCALE:GREGORIAN
BEGIN:VEVENT
UID:sabre-vobject-4ea32a58-8301-47c8-84d0-1aee4bdbc2e7
DTSTAMP:20260422T181215Z
SUMMARY:La vie mystérieuse du blaireau
DESCRIPTION:Avec Hannes Geisser\, Directeur du musée et biologiste.
LOCATION:Naturmuseum Thurgau\, Freie Strasse 24\, 8510 Frauenfeld
DTSTART;TZID=Europe/Zurich:20260724T093000
DTEND;TZID=Europe/Zurich:20260724T103000
ORGANIZER:Naturmuseum Thurgau
END:VEVENT
END:VCALENDAR
