BEGIN:VCALENDAR
VERSION:2.0
PRODID:-//Sabre//Sabre VObject 4.5.8//EN
CALSCALE:GREGORIAN
BEGIN:VEVENT
UID:sabre-vobject-23d880bc-4a89-4eed-8654-d8272c52ba6c
DTSTAMP:20260422T181155Z
SUMMARY:The mysterious life of the badger
DESCRIPTION:With Hannes Geisser\, Museum director and biologist.
LOCATION:Naturmuseum Thurgau\, Freie Strasse 24\, 8510 Frauenfeld
DTSTART;TZID=Europe/Zurich:20260724T110000
DTEND;TZID=Europe/Zurich:20260724T120000
ORGANIZER:Naturmuseum Thurgau
END:VEVENT
END:VCALENDAR
