BEGIN:VCALENDAR
VERSION:2.0
PRODID:-//Sabre//Sabre VObject 4.5.8//EN
CALSCALE:GREGORIAN
BEGIN:VEVENT
UID:sabre-vobject-74e56455-0f6f-4c3c-b363-b27a8e1e367a
DTSTAMP:20260422T181409Z
SUMMARY:Zu Gast beim Dachs
DESCRIPTION:Den Dachs mit seinem schwarz-weissen Fell kennt wohl jedes Kind
 . Doch ist er ein sehr geheimnisvolles Tier\, da er die meiste Zeit seines
  Lebens in seinem unterirdischen Bau verbringt und nur nachts ins Freie ko
 mmt. Auf einem spielerischen Rundgang durch die Ausstellung kommen die Kin
 der und ihre erwachsene Begleitung diesem heimlichen Waldbewohner ganz nah
  und entdecken und erfahren Überraschendes über ihn.\nMit Elena Finkler\
 , Museumspädagogin und Zoologin
LOCATION:Naturmuseum Thurgau\, Freie Strasse 24\, 8510 Frauenfeld
DTSTART;TZID=Europe/Zurich:20260805T103000
DTEND;TZID=Europe/Zurich:20260805T120000
ORGANIZER:Naturmuseum Thurgau
END:VEVENT
END:VCALENDAR
