BEGIN:VCALENDAR
VERSION:2.0
PRODID:-//Sabre//Sabre VObject 4.5.8//EN
CALSCALE:GREGORIAN
BEGIN:VEVENT
UID:sabre-vobject-150e45bf-f74d-45ea-aa21-a7de2a405e0e
DTSTAMP:20260422T184958Z
SUMMARY:Zu Gast beim Dachs
DESCRIPTION:Den Dachs mit seinem schwarz-weissen Fell kennt wohl jedes Kind
 . Doch ist er ein sehr geheimnisvolles Tier\, da er die meiste Zeit seines
  Lebens in seinem unterirdischen Bau verbringt und nur nachts ins Freie ko
 mmt. Auf einem spielerischen Rundgang durch die Ausstellung kommen die Kin
 der und ihre erwachsene Begleitung diesem heimlichen Waldbewohner ganz nah
  und entdecken und erfahren Überraschendes über ihn.\nGerne können die 
 Kinder ein eigenes Plüschtier zur Führung mitbringen.\nMit Leander High\
 , Museumspädagoge
LOCATION:Naturmuseum Thurgau\, Freie Strasse 24\, 8510 Frauenfeld
DTSTART;TZID=Europe/Zurich:20261007T103000
DTEND;TZID=Europe/Zurich:20261007T113000
ORGANIZER:Naturmuseum Thurgau
END:VEVENT
END:VCALENDAR
