BEGIN:VCALENDAR
VERSION:2.0
PRODID:-//Sabre//Sabre VObject 4.5.8//EN
CALSCALE:GREGORIAN
BEGIN:VEVENT
UID:sabre-vobject-054ae31d-0815-4cd0-82bf-cb57c87df23f
DTSTAMP:20260421T141445Z
SUMMARY:Kunstpirsch
DESCRIPTION:In einem Rundgang werden 2-er Teams gemeinsam die Werke erkunde
 n. Sie werden sich mit den Momenten des Wandels und der Transformation aus
 einandersetzen. Die Kunstpirsch dauert 2x45 Minuten\, kann aber auch grupp
 enentsprechend zeitlich angepasst werden.
LOCATION:Komturei Tobel\, Komturei 12\, 9555 Tobel
DTSTART;TZID=Europe/Zurich:20260625T080000
DTEND;TZID=Europe/Zurich:20260625T163000
ORGANIZER:ohm41
END:VEVENT
END:VCALENDAR
