BEGIN:VCALENDAR
VERSION:2.0
PRODID:-//Sabre//Sabre VObject 4.5.8//EN
CALSCALE:GREGORIAN
BEGIN:VEVENT
UID:sabre-vobject-d3019782-fc00-44aa-be62-1e99a855525b
DTSTAMP:20260421T141318Z
SUMMARY:Kunstpirsch
DESCRIPTION:In einem Rundgang werden 2-er Teams gemeinsam die Werke erkunde
 n. Sie werden sich mit den Momenten des Wandels und der Transformation aus
 einandersetzen. Die Kunstpirsch dauert 2x45 Minuten\, kann aber auch grupp
 enentsprechend zeitlich angepasst werden.
LOCATION:Komturei Tobel\, Komturei 12\, 9555 Tobel
DTSTART;TZID=Europe/Zurich:20260611T080000
DTEND;TZID=Europe/Zurich:20260611T163000
ORGANIZER:ohm41
END:VEVENT
END:VCALENDAR
