BEGIN:VCALENDAR
VERSION:2.0
PRODID:-//Sabre//Sabre VObject 4.5.8//EN
CALSCALE:GREGORIAN
BEGIN:VEVENT
UID:sabre-vobject-14b6bb95-efb7-4d6f-b6da-2139aca2c3b2
DTSTAMP:20260421T105229Z
SUMMARY:Schnupperwochen Musik & Tanz
DESCRIPTION:
LOCATION:Musikschule Weinfelden\, Ringstrasse 4\, 8570 Weinfelden
DTSTART;TZID=Europe/Zurich:20260608T000000
DTEND;TZID=Europe/Zurich:20260608T000000
ORGANIZER:Musikschule Weinfelden
END:VEVENT
END:VCALENDAR
