BEGIN:VCALENDAR
VERSION:2.0
PRODID:-//Sabre//Sabre VObject 4.5.8//EN
CALSCALE:GREGORIAN
BEGIN:VEVENT
UID:sabre-vobject-22960632-425e-4b41-a58a-b1d12119ddaa
DTSTAMP:20260421T123532Z
SUMMARY:Eröffnungsfest TopTrail Tannzapfenland
DESCRIPTION:Der neue Trail im Tannzapfenland wird vom Verein TopTrail mit e
 inem grossen Fest eröffnet. Ein Programm für Klein und Gross sorgt für 
 Abwechslung von früh bis Spät. Im Mittelpunkt wird der trail stehen\, al
 s Treffpunkt für Biker:innen. Festwirtschaft\, Herausforderungen für Fam
 ilien und Einzelne\, sowie eine Bar mit ordentlicher Party.\n10 Uhr: Festw
 irtschaft\, Expo\, Laufradparcours &amp\; Airbag\\n10.30 Uhr: Bike-OL\\n10
 .30 Uhr: Apéro Sponsoren und Gäste\\n11.30 Uhr: Eröffnungsakt\\n13.30 U
 hr Kids Race I - Laufradrennen\\n16 Uhr: Kids Race II - Laufradrennen\\n16
  Uhr: Live Musik\\n19.30 Uhr: Barbetrieb mit Live DJ PE-BE
LOCATION:Weierwis\, 8376 Fischingen
DTSTART;TZID=Europe/Zurich:20260425T100000
DTEND;TZID=Europe/Zurich:20260426T000000
ORGANIZER:Verein TopTrail Tannzapfenland
END:VEVENT
END:VCALENDAR
