BEGIN:VCALENDAR
VERSION:2.0
PRODID:-//Sabre//Sabre VObject 4.5.8//EN
CALSCALE:GREGORIAN
BEGIN:VEVENT
UID:sabre-vobject-5172e7d5-61f6-464d-ab54-57854afeb88e
DTSTAMP:20260421T123526Z
SUMMARY:Naturena: Ledergestaltung - Gürtel
DESCRIPTION:In traditioneller Handwerksmanier entsteht unter den Händen de
 r Teilnehmenden ein individueller Ledergürtel mit stilvoller Metallschnal
 le – wahlweise in Natur\, Cognac\, Braun oder Schwarz. Dabei lernen die 
 Teilnehmenden den Zuschnitt des Ledermaterials sowie die erforderlichen Ve
 rbindungstechniken kennen.
LOCATION:Volg Erlebnishof Seebachtal\, Haldenhof 1\, 8536 Hüttwilen
DTSTART;TZID=Europe/Zurich:20260912T090000
DTEND;TZID=Europe/Zurich:20260912T160000
ORGANIZER:Volg Konsumwaren AG
END:VEVENT
END:VCALENDAR
