BEGIN:VCALENDAR
VERSION:2.0
PRODID:-//Sabre//Sabre VObject 4.5.8//EN
CALSCALE:GREGORIAN
BEGIN:VEVENT
UID:sabre-vobject-fe62e3bd-8023-4ba4-a949-c7159c6e7e4a
DTSTAMP:20260421T123532Z
SUMMARY:Naturena: Ledergestaltung - Gürtel
DESCRIPTION:In traditioneller Handwerksmanier entsteht unter den Händen de
 r Teilnehmenden ein individueller Ledergürtel mit stilvoller Metallschnal
 le – wahlweise in Natur\, Cognac\, Braun oder Schwarz. Dabei lernen die 
 Teilnehmenden den Zuschnitt des Ledermaterials sowie die erforderlichen Ve
 rbindungstechniken kennen.
LOCATION:Volg Erlebnishof Seebachtal\, Haldenhof 1\, 8536 Hüttwilen
DTSTART;TZID=Europe/Zurich:20260911T090000
DTEND;TZID=Europe/Zurich:20260911T160000
ORGANIZER:Volg Konsumwaren AG
END:VEVENT
END:VCALENDAR
