BEGIN:VCALENDAR
VERSION:2.0
PRODID:-//Sabre//Sabre VObject 4.5.8//EN
CALSCALE:GREGORIAN
BEGIN:VEVENT
UID:sabre-vobject-02d0c6be-6a8a-4f51-b59e-024090dc4012
DTSTAMP:20260421T144758Z
SUMMARY:à la quarte - A-cappella-Formation
DESCRIPTION:Die vier Herren der A-cappella-Formation «à la quarte» brin
 gen Gesang\, Freude und Freundschaft gekonnt auf die Bühne. In ihrem neu
 en Programm «Frisch vode Läbere» führen sie durch ein Potpourri von 
 Liedern\, in denen sie sich selbst immer wieder finden. Von Einzelsocken u
 ̈bers Lehrerschicksal bis hin zum Mundgeruch wird dem Publikum so einiges
  zugemutet – deutschsprachig\, harmonie-\, text- und pointenreich. \\nJ
 edes Konzert wird zu einer besonderen Begegnung.
LOCATION:Evang. - ref. Kirche\, Seestrasse\, 8267 Berlingen
DTSTART;TZID=Europe/Zurich:20260927T180000
DTEND;TZID=Europe/Zurich:20260927T191500
ORGANIZER:Berlinger Konzerte
END:VEVENT
END:VCALENDAR
