BEGIN:VCALENDAR
VERSION:2.0
PRODID:-//Sabre//Sabre VObject 4.5.8//EN
CALSCALE:GREGORIAN
BEGIN:VEVENT
UID:sabre-vobject-cc21ba34-8acc-4f7b-972c-aff0e55e6d7a
DTSTAMP:20260421T122454Z
SUMMARY:Hafenfest Romanshorn
DESCRIPTION:Traditionell ist das Hafenfest der aufregende Auftakt in die ne
 ue Schifffahrtsaison – ein abwechslungsreiches Programm für die ganze F
 amilie.\\n\\nDas maritime Erlebnis- und Genusswochenende am Hafen von Roma
 nshorn ist ein unvergesslicher Event voller Abenteuer\, kulinarischer Höh
 epunkte und atemberaubender Ausblicke am Ufer des Bodensees.
LOCATION:Hafen Romanshorn\, Friedrichshafnerstrasse 55\, 8590 Romanshorn
DTSTART;TZID=Europe/Zurich:20260425T000000
DTEND;TZID=Europe/Zurich:20260425T000000
ORGANIZER:Schweizerische Bodensee-Schifffahrt AG
END:VEVENT
END:VCALENDAR
