BEGIN:VCALENDAR
VERSION:2.0
PRODID:-//Sabre//Sabre VObject 4.5.8//EN
CALSCALE:GREGORIAN
BEGIN:VEVENT
UID:sabre-vobject-7aa2ed76-b19b-444c-83f7-1352cf5f704d
DTSTAMP:20260419T131410Z
SUMMARY:Die Vielfalt der Heilpfanzen
DESCRIPTION:Noah Frehner\, Dipl. Drogist HF und Naturheilpraktiker TEN
LOCATION:Naturmuseum Thurgau\, 8500 Frauenfeld
DTSTART;TZID=Europe/Zurich:20260607T093000
DTEND;TZID=Europe/Zurich:20260607T103000
ORGANIZER:Naturmuseum Thurgau
END:VEVENT
END:VCALENDAR
