BEGIN:VCALENDAR
VERSION:2.0
PRODID:-//Sabre//Sabre VObject 4.5.8//EN
CALSCALE:GREGORIAN
BEGIN:VEVENT
UID:sabre-vobject-e5b28c0b-7c6f-4330-9ee6-c3be695d3c18
DTSTAMP:20260421T143226Z
SUMMARY:Der Club der toten Dichter
DESCRIPTION:Tradition\, Ehre\, Disziplin\, Exzellenz – das sind die vier 
 Grundprinzipien\, die seit jeher an der Welton Academy vermittelt werden. 
 Doch mit dem Auftauchen des jungen Englischlehrers John Keating werden die
  starren Traditionen der Schüler des Jungeninternats plötzlich aufgebroc
 hen.\n \nIn seinem ungewöhnlichen Unterricht motiviert er die Schüler\,
  eine eigene Persönlichkeit zu entwickeln und den Glaubenssatz „Carpe D
 iem! Nutze den Tag!“ zu verinnerlichen. Als sein Schüler Neil vom gehei
 mnisvollen „Club der toten Dichter“ erfährt\, in dem Keating selbst e
 inmal Mitglied war\, beschließt er die Geheimgesellschaft wieder aufleben
  zu lassen.
LOCATION:Tonhalle Wil\, Tonhallestrasse 29\, 9500 Wil SG
DTSTART;TZID=Europe/Zurich:20260424T205900
DTEND;TZID=Europe/Zurich:20260424T205900
ORGANIZER:Tonhalle Wil
END:VEVENT
END:VCALENDAR
