BEGIN:VCALENDAR
VERSION:2.0
PRODID:-//Sabre//Sabre VObject 4.5.8//EN
CALSCALE:GREGORIAN
BEGIN:VEVENT
UID:sabre-vobject-4d577891-ba1a-48c4-bf08-044adace2125
DTSTAMP:20260421T105140Z
SUMMARY:Live-Vortrag: Cuba - Rhythmus\, Rum & Revolution
DESCRIPTION:Im Vordergrund seiner Erzählungen steht jedoch immer die Begeg
 nung mit den Menschen. In den Straßen Havannas mit ihrem langsam zerfalle
 ndem Charme\, begegnet er Santeria Priestern und Schachmeistern\, in der t
 raumhaft anmutenden Naturlandschaft um Viñales sind es Begegnungen mit Ta
 bakbauern &amp\; Künstlern\, die ihm das Land näher bringen. Er präsent
 iert außerdem atemberaubende Naturaufnahmen und beeindruckende Städte-Po
 rtraits. In seinen Geschichten spürt man den Rhythmus eines Landes\, dass
  zwischen Revolution\, Armut und ungebrochener Lebensfreude schwingt.
LOCATION:Liberty Cinema\, Amriswilerstrasse 106b\, 8570 Weinfelden
DTSTART;TZID=Europe/Zurich:20261122T110000
DTEND;TZID=Europe/Zurich:20261122T133000
ORGANIZER:Liberty Cinema
END:VEVENT
END:VCALENDAR
