BEGIN:VCALENDAR
VERSION:2.0
PRODID:-//Sabre//Sabre VObject 4.5.8//EN
CALSCALE:GREGORIAN
BEGIN:VEVENT
UID:sabre-vobject-28d81c7c-163f-4f4d-bf00-d611a197d63f
DTSTAMP:20260419T123411Z
SUMMARY:Repair Café Bischofszell
DESCRIPTION:Haben Sie defekte Gegenstände zu Hause? Möchten Sie diese lie
 ber repariert haben statt wegzuwerfen? Wir bieten Hand dazu! In unserem Re
 pair Café stellen Männer und Frauen ehrenamtlich ihr handwerkliches Tale
 nt zur Verfügung und hauchen defekten Gegenständen wieder neues Leben ei
 n.\\n\\nEgal ob Spielzeug\, Stuhl\, Mixer\, Lieblingsjacke etc. Die Besuch
 er sind herzlich eingeladen\, ihre defekten Gegenstände vorbei zu bringen
 . Von 9 bis 14 Uhr wird genäht\, gebohrt\, geleimt und gelötet. Die Repa
 raturdienstleistungen sind allesamt kostenlos - bezahlt werden müssen led
 iglich bei Bedarf die Ersatzteile.\\n\\nRepariert werden:\\nElektro\\nText
 il\\nHolz\, Metall\\nComputer Hardware\, Multimedia (Radio\, TV)\\n\\nDa a
 n unseren Repair Cafés Reparateure verschiedener Berufsgruppen gleichzeit
 ig anwesend sind\, können wir auch kombinierte Reparaturen ausführen.
LOCATION:Schule Sandbänkli\, Sandbänkli 3\, 9220 Bischofszell
DTSTART;TZID=Europe/Zurich:20260912T090000
DTEND;TZID=Europe/Zurich:20260912T140000
ORGANIZER:Repair Café Bischofszell
END:VEVENT
END:VCALENDAR
