BEGIN:VCALENDAR
VERSION:2.0
PRODID:-//Sabre//Sabre VObject 4.5.8//EN
CALSCALE:GREGORIAN
BEGIN:VEVENT
UID:sabre-vobject-90389395-924d-4201-b5d0-327d4523783c
DTSTAMP:20260421T105229Z
SUMMARY:Spaziergang mit dem Autor
DESCRIPTION:\\nMit Usama Al Shahmani auf einen Spaziergang gehen und gemein
 sam den Rausch der Sprache sowie den Rausch der Natur erleben. Beides wirk
 t zugleich als Inspiration und Trost. Der Spaziergang eröffnet Gelegenhei
 ten für persönliche Gespräche. Der Autor hält unterwegs immer wieder i
 nne und liest ausgewählte Texte und Gedichte vor\, die zum Nachdenken anr
 egen und Fragen aufwerfen. Welche Verbindung besteht zwischen der Kultur d
 es Gehens\, der Bewegung in der Natur und dem Schreiben? Welche Spannungsf
 elder und Herausforderungen ergeben sich für einen Schriftsteller\, der i
 n zwei Kulturen zuhause ist? Und was macht Bäume so faszinierend – und 
 wofür stehen sie für uns?
LOCATION:Lindenpark\, 8500 Frauenfeld
DTSTART;TZID=Europe/Zurich:20260509T100000
DTEND;TZID=Europe/Zurich:20260509T120000
ORGANIZER:Lesefeld - Lesungen in und um Frauenfeld
END:VEVENT
END:VCALENDAR
