BEGIN:VCALENDAR
VERSION:2.0
PRODID:-//Sabre//Sabre VObject 4.5.8//EN
CALSCALE:GREGORIAN
BEGIN:VEVENT
UID:sabre-vobject-e032acf6-3c0d-4034-a00c-4d979db17fe7
DTSTAMP:20260421T122350Z
SUMMARY:Gespräch am Bücherfest
DESCRIPTION:Frauenfeld las ein Buch …und diskutiert am Samstag über "In 
 der Tiefe des Tigris schläft ein Lied". The Artist is present. Offene Ges
 prächsrunde mit Ivna Zic. \\nAnmeldung ab April via www.buecherfest.ch. 
LOCATION:Bernerhaus\, Bankplatz 5\, 8500 Frauenfeld
DTSTART;TZID=Europe/Zurich:20260530T110000
DTEND;TZID=Europe/Zurich:20260530T120000
ORGANIZER:Lesefeld - Lesungen in und um Frauenfeld
END:VEVENT
END:VCALENDAR
