BEGIN:VCALENDAR
VERSION:2.0
PRODID:-//Sabre//Sabre VObject 4.5.8//EN
CALSCALE:GREGORIAN
BEGIN:VEVENT
UID:sabre-vobject-42a82479-09e2-4d29-be46-4b4aa7e76378
DTSTAMP:20260421T143255Z
SUMMARY:Flamenco\, Tanz & Bewegung
DESCRIPTION:Für Jugendliche und Erwachsene.
LOCATION:Tanzstudio\, Konstanzerstrasse 3\, 8274 Tägerwilen
DTSTART;TZID=Europe/Zurich:20261214T183000
DTEND;TZID=Europe/Zurich:20261214T203000
ORGANIZER:Tanzstudio
END:VEVENT
END:VCALENDAR
