BEGIN:VCALENDAR
VERSION:2.0
PRODID:-//Sabre//Sabre VObject 4.5.8//EN
CALSCALE:GREGORIAN
BEGIN:VEVENT
UID:sabre-vobject-2e696386-06ca-4cb6-b0c9-d924d8d8035f
DTSTAMP:20260421T143255Z
SUMMARY:Flamenco\, Tanz & Bewegung
DESCRIPTION:Für Jugendliche und Erwachsene.
LOCATION:Tanzstudio\, Konstanzerstrasse 3\, 8274 Tägerwilen
DTSTART;TZID=Europe/Zurich:20261022T183000
DTEND;TZID=Europe/Zurich:20261022T204500
ORGANIZER:Tanzstudio
END:VEVENT
END:VCALENDAR
