BEGIN:VCALENDAR
VERSION:2.0
PRODID:-//Sabre//Sabre VObject 4.5.8//EN
CALSCALE:GREGORIAN
BEGIN:VEVENT
UID:sabre-vobject-abd654b6-70c8-4a0c-b211-13c8546c5ce1
DTSTAMP:20260421T143255Z
SUMMARY:Flamenco\, Tanz & Bewegung
DESCRIPTION:Für Jugendliche und Erwachsene.
LOCATION:Tanzstudio\, Konstanzerstrasse 3\, 8274 Tägerwilen
DTSTART;TZID=Europe/Zurich:20260817T183000
DTEND;TZID=Europe/Zurich:20260817T203000
ORGANIZER:Tanzstudio
END:VEVENT
END:VCALENDAR
