BEGIN:VCALENDAR
VERSION:2.0
PRODID:-//Sabre//Sabre VObject 4.5.8//EN
CALSCALE:GREGORIAN
BEGIN:VEVENT
UID:sabre-vobject-73a1166b-621a-4c92-8bca-9734c3b54e4a
DTSTAMP:20260421T143355Z
SUMMARY:Flamenco\, Tanz & Bewegung
DESCRIPTION:Für Jugendliche und Erwachsene.
LOCATION:Tanzstudio\, Konstanzerstrasse 3\, 8274 Tägerwilen
DTSTART;TZID=Europe/Zurich:20260511T183000
DTEND;TZID=Europe/Zurich:20260511T203000
ORGANIZER:Tanzstudio
END:VEVENT
END:VCALENDAR
