BEGIN:VCALENDAR
VERSION:2.0
PRODID:-//Sabre//Sabre VObject 4.5.8//EN
CALSCALE:GREGORIAN
BEGIN:VEVENT
UID:sabre-vobject-eedb6766-9ccb-4baa-b101-a55e9fb11ab5
DTSTAMP:20260421T103954Z
SUMMARY:TmbH-Die Impro-Show
DESCRIPTION:Wenn Inspiration auf Irritation trifft\, wenn sich Lachen und H
 andeln verbinden\, wenn Publikum und Ensemble zu einer Gemeinschaft werden
 \, die Unsinn mit Bedacht gestaltet\, dann ist es wieder so weit: TmbH –
  die Impro-Show sorgt für Lachen\, berührt und regt zum Vor-\, Mit- und 
 Nachdenken an.
LOCATION:K9 Kulturzentrum\, Hieronymusgasse 3\, 78462 Konstanz
DTSTART;TZID=Europe/Zurich:20260612T200000
DTEND;TZID=Europe/Zurich:20260612T223000
ORGANIZER:K9 Kulturzentrum
END:VEVENT
END:VCALENDAR
