BEGIN:VCALENDAR
VERSION:2.0
PRODID:-//Sabre//Sabre VObject 4.5.8//EN
CALSCALE:GREGORIAN
BEGIN:VEVENT
UID:sabre-vobject-4e022030-e17a-4d0c-b83c-b017bd5413d7
DTSTAMP:20260421T092713Z
SUMMARY:Tanz X – Neuordnung im Zwischenraum
DESCRIPTION:Aufbauend auf den bereits im Kulturzentrum GEMS präsentierten 
 Abenden Tanz Eins und Tanz Zwei werden in Tanz X ausgewählte Arbeiten ers
 tmals neu zusammengesetzt.\nLeander Emanuel\, Davina Wölfle-Obitz\, Emman
 uel Ramos und Viviane Cécile Hummel verbinden Tanzstücke beider Abende z
 u einer neuen Form. Bilder und Körper begegnen sich erneut\, reagieren au
 feinander und formen eine eigenständige Collage. Der Abend versteht sich 
 als Versuchsanordnung: Wie verändert sich ein Stück im verschobenen Zusa
 mmenhang? Was geschieht\, wenn Arbeiten ihren ursprünglichen Platz verlas
 sen und in neuer Umgebung Beziehungen eingehen?\nChoreografische Miniaturw
 elten – Trios\, Soli und ein Tanzfilm – lösen sich aus ihrer Dramatur
 gie und treffen in veränderter Konstellation aufeinander. Themen wie Lieb
 e\, Ego\, Depression\, zwischenmenschliche Unterschiede und Wissen treten 
 in neue Dialoge. Die Arbeiten bewegen sich zwischen experimentell und klas
 sisch\, verbinden Tanz mit schauspielerischen Elementen und balancieren em
 otionale Intensität mit spielerischer Leichtigkeit.\nDas „X“ markiert
  den Schnittpunkt: den Moment\, in dem Vergangenes und Gegenwärtiges aufe
 inandertreffen und anders erfahrbar wird.\\nTanz X ist Erinnerung und Weit
 erdenken zugleich – eine Einladung\, Vertrautes neu zu sehen.
LOCATION:Kulturzentrum Kult-X\, Hafenstrasse 8\, 8280 Kreuzlingen
DTSTART;TZID=Europe/Zurich:20260418T200000
DTEND;TZID=Europe/Zurich:20260418T210000
ORGANIZER:Kult-X
END:VEVENT
END:VCALENDAR
