BEGIN:VCALENDAR
VERSION:2.0
PRODID:-//Sabre//Sabre VObject 4.5.8//EN
CALSCALE:GREGORIAN
BEGIN:VEVENT
UID:sabre-vobject-b2903060-fb1f-4d43-87ef-1d7cbd6aa0b8
DTSTAMP:20260421T120322Z
SUMMARY:Offener Bar-Abend
DESCRIPTION:Der Verein Kulturrausch lädt jeden letzten Freitag im Monat zu
 m offenen Bar-Abend im Bild-Rauschen-Studio in Bürglen ein. \nAb 19:00 U
 hr geöffnet. Das Publikum geniesst den Feierabend in heimeliger Atmosphä
 re\, trifft nette Menschen und geniesst einen feinen Snack (Pizza oder Fla
 mmkuchen\, mediterranes Brettli). \\n\\nOb alleine\, mit Freunden oder mit
  Partner:in – hier findet jede:r Platz.
LOCATION:Bild-Rauschen-Studio\, Industriestrasse 6a\, 8575 Bürglen TG
DTSTART;TZID=Europe/Zurich:20260925T190000
DTEND;TZID=Europe/Zurich:20260925T190000
ORGANIZER:Verein Kulturrausch
END:VEVENT
END:VCALENDAR
