BEGIN:VCALENDAR
VERSION:2.0
PRODID:-//Sabre//Sabre VObject 4.5.8//EN
CALSCALE:GREGORIAN
BEGIN:VEVENT
UID:sabre-vobject-8f51a3ab-5ef4-43d9-b0c7-80aa27709372
DTSTAMP:20260421T122353Z
SUMMARY:Rebspaziergang mit Weindegustation
DESCRIPTION:Teilnehmende erleben einen genussvollen Spaziergang entlang des
  Bodensees\, durch den Park und die Reben am Arenenberg in Ermatingen am B
 odensee. Wine Guide und Food Historian Karin Peter begleitet die Teilnehme
 nden mit spannenden Geschichten zu Wein\, Landschaft und Kultur.\\n\\nTref
 fpunkt ist im Vinorama Museum in Ermatingen. Auf einem Spaziergang entlang
  des Sees sowie durch den Park und die Reben am Arenenberg – heute Landw
 irtschaftsschule des Kantons Thurgau und Napoleonmuseum – erfährt man v
 or einzigartiger Kulisse Spannendes und Historisches über Reben\, Obst\, 
 prägende Ereignisse und bedeutende Persönlichkeiten.\\n\\nZurück im Vin
 orama wartet ein stimmungsvoller Gewölbekeller mit verschiedene Thurgauer
  Weinen sowie Apéroteller mit regionalen Spezialitäten. Während der Deg
 ustation gibt es Informationen über Hermann Müller aus dem Thurgau und d
 ie neuesten Trends im Thurgauer Weinbau.\\n\\nInbegriffen sind eine gefüh
 rte Wanderung\, eine Weindegustation mit fünf Thurgauer Weinen sowie ein 
 Apéroteller mit regionalen Produkten.
LOCATION:Vinorama Museum Ermatingen\, Hauptstrasse 62\, 8272 Ermatingen
DTSTART;TZID=Europe/Zurich:20260528T150000
DTEND;TZID=Europe/Zurich:20260528T180000
ORGANIZER:Genusszeit
END:VEVENT
END:VCALENDAR
