BEGIN:VCALENDAR
VERSION:2.0
PRODID:-//Sabre//Sabre VObject 4.5.8//EN
CALSCALE:GREGORIAN
BEGIN:VEVENT
UID:sabre-vobject-99ebe3c6-dee9-45ee-af29-d94a17baad03
DTSTAMP:20260421T103911Z
SUMMARY:Staubgefässe - Farben der Vergänglichkeit
DESCRIPTION:Was passiert\, wenn eine Rose verwelkt oder eine Orange austroc
 knet? Was geschieht\, wenn sich ein Stein vom Felsen löst und zu Sand wir
 d? Der gemeinsame Nenner ist die Umwandlung – die Transformation von ein
 em Zustand in einen anderen. Die Zürcher Künstlerin Anna-Maria Bauer hat
  sich intensiv mit Veränderungs- und Umgestaltungsprozessen auseinanderge
 setzt. Sie hat organische Substanzen zu Pulver zerrieben.\nDas Resultat is
 t von betörender Schönheit und vielschichtiger metaphorischer Bedeutung.
  Auf Tischsockeln stehen in einer Linie aufgereiht 49 identische Metallsch
 alen. Jede ist gefüllt mit einem andersfarbigen\, zu feinem Staub gemahle
 nen Farbpigment. Was einst ein Rosen- oder Lorbeerblatt\, eine Mandarinen-
  oder Austernschale war\, hat die Künstlerin in einem mehrstufigen Transf
 ormationsprozess zu farbigem Pulver verarbeitet. Bei der Herstellung hat s
 ich nicht nur die Konsistenz verändert\, sondern auch die natürliche Far
 be. Entstanden ist eine breite Palette an zurückhaltend warmen Erdtönen\
 , die durch verschiedene Farbnuancen und subtile Abweichungen in der Tonal
 ität bezaubern.\nMonika Laib wird mit ihrem Team die Ausstellung mit flor
 alen Objekten ergänzen und dabei ganz eigene Akzente zum Thema Staubgefä
 sse setzen. — Jede Floristin beschäftigt sich mit einer Pflanze aus den
  49 Staubgefässen — Aus dem Pflanzenstaub oder Pflanzenteilen gestaltet
  jede Floristin individuell eine Urne – jede ein Unikat — Hinzu kommen
  Objekte aus Draht und Pflanzenteilen: filigrane\, transparente Körper\, 
 die dennoch Form und Struktur zeigen
LOCATION:Kulturforum Amriswil\, Bahnhofstrasse 22 22\, 8580 Amriswil
DTSTART;TZID=Europe/Zurich:20260607T100000
DTEND;TZID=Europe/Zurich:20260607T180000
ORGANIZER:Amriswiler Konzerte
END:VEVENT
END:VCALENDAR
