BEGIN:VCALENDAR
VERSION:2.0
PRODID:-//Sabre//Sabre VObject 4.5.8//EN
CALSCALE:GREGORIAN
BEGIN:VEVENT
UID:sabre-vobject-96beecc4-f3c4-4397-be6f-44204e41ac1c
DTSTAMP:20260419T145404Z
SUMMARY:Das Farbenbuch
DESCRIPTION:Präsentation „Das Farbenbuch”\, vorgestellt von Juraj Lips
 cher und Hanspeter Schneider.\n367 Pigmente und Farbstoffe: Ganze 367 Pigm
 ente und Farbstoffe werden im ersten Teil lexikalisch abgehandelt\, eine F
 ülle von Informationen über alle Facetten dieser Stoffe mit wohlklinge
 nden Namen wie Auripigment\, Neapelgelb und Kirschkernschwarz. Jedes Farbm
 ittel ist als pulverförmiger Stoff in hoher Qualität abgebildet und mit 
 Abbildungen handgefertigter Farbmuster illustriert.\n17 Pigmentanalysen: D
 as Kapitel beschreibt die physikalischen und chemischen Methoden\, welche 
 zur Untersuchung von Gemälden eingesetzt werden. Die folgenden Seiten fu
 ̈hren Pigmentanalysen von Gemälden aus allen Epochen der Kunstgeschichte
  auf\, von den prähistorischen Höhlenmalereien bis zur zeitgenössischen
  Kunst.\n19 Farbgeschichten: Umfangreichere Farbgeschichten bilden dann de
 n letzten Teil dieses Werkes. Wir erfahren beispielsweise über die übe
 rraschende Erkenntnis\, dass die antiken Statuen ursprünglich bunt waren
 \, lnge Boesken Kanold beschreibt ihre dreissigjährige Faszination mit Pu
 rpur und Stefan Muntwyler schildert die bewegte Geschichte des teuren Pigm
 entes Ultramarin. 
LOCATION:Kulturforum Amriswil\, Bahnhofstrasse 22\, 8580 Amriswil
DTSTART;TZID=Europe/Zurich:20260531T100000
DTEND;TZID=Europe/Zurich:20260531T100000
ORGANIZER:Amriswiler Konzerte
END:VEVENT
END:VCALENDAR
