BEGIN:VCALENDAR
VERSION:2.0
PRODID:-//Sabre//Sabre VObject 4.5.8//EN
CALSCALE:GREGORIAN
BEGIN:VEVENT
UID:sabre-vobject-c95f8c34-c556-4d67-abee-6b43bf4efd6d
DTSTAMP:20260421T142354Z
SUMMARY:Insider-Vortrag über China: Faszination\, Bedrohung oder neuer Par
 tner?
DESCRIPTION:Die Entwicklungen in China bewegen die Welt – und werfen mehr
  Fragen auf denn je. Der Verein kulTisch lädt zu einem exklusiven Insider
 -Vortrag ein: Der langjährige SRF-Asienkorrespondent Pascal Nufer gibt ei
 nen einzigartigen 360‑Grad‑Blick auf die Volksrepublik China und ihre 
 Rolle in der globalen Ordnung.\nStaatschef Xi Jinping festigt seine Macht\
 , das Säbelrasseln rund um Taiwan wird lauter und mit der expansiven Neue
 n Seidenstrasse schafft das Reich der Mitte neue globale Abhängigkeiten. 
 Wohin führt dieser Mix aus Autoritarismus\, Expansion und wirtschaftliche
 r Stärke? Und wie wirkt sich das auf die Bevölkerung im Land aus? Wie au
 f die internationale Politik und auf uns in der Schweiz auf der Suche nach
  neuen Verbündeten? \nViele Jahre berichtete Pascal Nufer für das Schwe
 izer Fernsehen direkt aus Shanghai und analysierte vor Ort die politischen
 \, gesellschaftlichen und wirtschaftlichen Entwicklungen. Heute beobachtet
  er die Geschehnisse aus der Schweiz. Als Buchautor und ausgewiesener Asie
 n-Insider vermittelt er einen differenzierten Blick: China fasziniert.\nDe
 r Abend bietet fundierte Einordnung\, persönliche Einblicke und Raum für
  Fragen – ein Muss für alle\, die verstehen wollen\, wie China die Welt
  von morgen prägt.
LOCATION:Bistro zu Tisch\, Marktgasse 5\, 9220 Bischofszell
DTSTART;TZID=Europe/Zurich:20260508T190000
DTEND;TZID=Europe/Zurich:20260508T220000
ORGANIZER:Kulturverein kulTisch
END:VEVENT
END:VCALENDAR
