BEGIN:VCALENDAR
VERSION:2.0
PRODID:-//Sabre//Sabre VObject 4.5.8//EN
CALSCALE:GREGORIAN
BEGIN:VEVENT
UID:sabre-vobject-69141efc-2f95-429f-9ed6-e55bdc78154d
DTSTAMP:20260421T122354Z
SUMMARY:Peter Kradolfer - Falling Through A Field
DESCRIPTION:In seiner ersten Einzelausstellung beschäftigt sich Peter Krad
 olfer mit zirkulären Systemen der (industriellen) Welt und lädt dazu ein
 \, sich selbst in diesen zu verorten. Dabei fordert er die scheinbare Pass
 ivität der Materie zum Dialog heraus und rückt das sinnliche\, körperli
 ch verankerte Erleben von Kunst ins Zentrum.\nKradolfers künstlerische Pr
 axis entspringt einem Interesse für das Zusammenspiel von Körper und Rau
 m. In seinen Arbeiten werden Grenzen zu Zwischenräumen. Alles ist in Bewe
 gung und doch fordert es die Kunst\, die Dinge festzuhalten.
LOCATION:Stadtgalerie Baliere\, Am Kreuzplatz\, 8500 Frauenfeld
DTSTART;TZID=Europe/Zurich:20260426T140000
DTEND;TZID=Europe/Zurich:20260426T170000
ORGANIZER:Stadtgalerie Baliere
END:VEVENT
END:VCALENDAR
