BEGIN:VCALENDAR
VERSION:2.0
PRODID:-//Sabre//Sabre VObject 4.5.8//EN
CALSCALE:GREGORIAN
BEGIN:VEVENT
UID:sabre-vobject-8eb62edc-f278-48ee-a593-412ed53539db
DTSTAMP:20260421T122452Z
SUMMARY:Reparier-Kafi Romanshorn
DESCRIPTION:Reparieren anstelle von wegwerfen macht Sinn. Liebgewordene Geg
 enstände im Alltag wieder zu gebrauchen\, macht Freude\, schont Ressource
 n und den Geldbeutel. Die Helferinnen und Helfer des 16. Reparier-Kafis st
 ehen in der Betula-Werkstätte bereit\, um die mitgebrachten Gegenstände 
 zu flicken. Leider können keine Nähmaschinen angenommen werden.\nGeschic
 kte Hände stellen defekte Textilien\, Elektrogeräte\, Velos\, Lederwaren
 \, digitale Geräte\, Metallwaren\, Holz- und Kunststoffgegenstände und v
 ieles mehr wieder instand. Handys\, Spielzeuge oder Staubsauger werden wie
 der funktionstüchtig gemacht. Auch Messer und Scheren werden frisch gesch
 liffen. Alles natürlich nur falls technisch möglich und ohne Garantie un
 d Haftung\, dafür aber kostenlos und mit viel Freude und Engagement.\nEin
 zig allfällige Ersatzteile sind zu berappen. Mit dieser Aktion können Ab
 fälle vermieden und Ressourcen geschont werden. In den vergangenen Jahren
  war der Andrang um 10 Uhr jeweils gross. Es empfiehlt sich daher\, das Re
 parier-Kafi eher gegen Mittag oder am Nachmittag zu besuchen. Den Besucher
 :innen steht eine Kafistube mit feinen Kuchen zur Verfügung. Das Organisa
 tionsteam freut sich auf spannende Aufträge und dankt der Bevölkerung f
 ür die Unterstützung.
LOCATION:Betula-Werkstätten\, Egnacherweg 2\, 8590 Romanshorn
DTSTART;TZID=Europe/Zurich:20260530T100000
DTEND;TZID=Europe/Zurich:20260530T150000
ORGANIZER:Verein Hinto.ch
END:VEVENT
END:VCALENDAR
