BEGIN:VCALENDAR
VERSION:2.0
PRODID:-//Sabre//Sabre VObject 4.5.8//EN
CALSCALE:GREGORIAN
BEGIN:VEVENT
UID:sabre-vobject-07968f0b-032c-4b9f-8082-4c4f68cc1764
DTSTAMP:20260421T104047Z
SUMMARY:Abendwanderung durch  Kunst und Wein
DESCRIPTION:Ein Abend für alle Sinne - stimmungsvolle Abendwanderung durch
  die Rebberge von Iselisberg über Dietingen nach Uesslingen mit Ausführu
 ngen zu Kunst & Kultur.\\n\n\\n\nAn vier Stationen gibt es regionalen Kös
 tlichkeiten und ausgesuchten Weinen. Auf der geführten Wanderung wird Spa
 nnendes über Weine\, Kunst und Landschaft erzählt.\\n\n\\n\nZum Ausklang
  des Abends steht eine Weinbar bereit.anschliessend Weinbar bis ca. 24:00 
 Uhr
LOCATION:Kunst und Wein Iselisberg\, 8524 Uesslingen
DTSTART;TZID=Europe/Zurich:20260522T181500
DTEND;TZID=Europe/Zurich:20260522T230000
ORGANIZER:Kunst & Wein am Iselisberg
END:VEVENT
END:VCALENDAR
