BEGIN:VCALENDAR
VERSION:2.0
PRODID:-//Sabre//Sabre VObject 4.5.8//EN
CALSCALE:GREGORIAN
BEGIN:VEVENT
UID:sabre-vobject-ebb472a2-873a-44e6-ac0d-ad7b6a435ea4
DTSTAMP:20260421T104047Z
SUMMARY:3. Sommerkonzert - classic versus modern music
DESCRIPTION:Valeriya Bernikova wurde in einer Musikerfamilie in Poltava (Uk
 raine) geboren. In ihrer Heimatstadt hat sie die Musikfachhochschule im Ha
 uptfach Saxophon und im Nebenfach Dirigieren abgeschlossen. Im Sommer 2016
  erlangte sie einen Master in Blasmusikdirektion an der Berner Fachhochsch
 ule und leitet zurzeit den Musikverein Kradolf-Schönenberg. \nClaudia He
 é erhielt in ihrer Heimatstadt St. Gallen den ersten Klavierunterricht mi
 t sieben Jahren. Sie studierte an der Musikhochschule Winterthur\, an der 
 Musikhochschule München und in Berlin. Claudia Heé unterrichtet am Konse
 rvatorium in Winterthur.\n \nHinweis:\\nDie vier Sommerkonzerte 2026 der 
 Frauenfelder Abendmusiken finden für einmal in der evangelischen Stadtkir
 che Frauenfeld statt. Der schöne Pfeiffer-Flügel\, welcher dort seit ein
 igen Monaten zum musikalischen Instrumentarium gehört\, wird dabei eine z
 entrale Rolle spielen.\n 
LOCATION:Evangelische Stadtkirche Frauenfeld\, Freiestrasse 12/14\, 8500 Fr
 auenfeld
DTSTART;TZID=Europe/Zurich:20260712T173000
DTEND;TZID=Europe/Zurich:20260712T173000
ORGANIZER:Frauenfelder-Abendmusiken
END:VEVENT
END:VCALENDAR
