BEGIN:VCALENDAR
VERSION:2.0
PRODID:-//Sabre//Sabre VObject 4.5.8//EN
CALSCALE:GREGORIAN
BEGIN:VEVENT
UID:sabre-vobject-2f8bec63-d5d4-4b88-9111-ec8bdb32efe4
DTSTAMP:20260421T104046Z
SUMMARY:4. Sommerkonzert - Violine und Klavier
DESCRIPTION:Edouard Mätzener ist ein mehrfach ausgezeichneter und auffalle
 nd vielseitiger Künstler\, welcher in verschiedenen Stilen und Formatione
 n aktiv ist. Als zweiter Geiger im Merel Quartett bespielt Edouard Mätzen
 er regelmässig Bühnen in der Schweiz und Europa.\nJohannes Herrmann stud
 ierte Instrumentalpädagogik und Klavierkammermusik an der Zürcher Hochsc
 hule der Künste bei Prof. Hans-Jürg Strub und Prof. Friedemann Rieger. E
 r unterrichtet an der Musikschule Konservatorium Zürich.\n \nHinweis:\\n
 Die vier Sommerkonzerte 2026 der Frauenfelder Abendmusiken finden für ein
 mal in der evangelischen Stadtkirche Frauenfeld statt. Der schöne Pfeiffe
 r-Flügel\, welcher dort seit einigen Monaten zum musikalischen Instrument
 arium gehört\, wird dabei eine zentrale Rolle spielen.
LOCATION:Evangelische Stadtkirche Frauenfeld\, Freiestrasse 12/14\, 8500 Fr
 auenfeld
DTSTART;TZID=Europe/Zurich:20260719T173000
DTEND;TZID=Europe/Zurich:20260719T173000
ORGANIZER:Frauenfelder-Abendmusiken
END:VEVENT
END:VCALENDAR
