BEGIN:VCALENDAR
VERSION:2.0
PRODID:-//Sabre//Sabre VObject 4.5.8//EN
CALSCALE:GREGORIAN
BEGIN:VEVENT
UID:sabre-vobject-98c17336-d481-4f61-a0db-71cd071b2d98
DTSTAMP:20260421T122453Z
SUMMARY:Orgelkonzert Emanuel Helg
DESCRIPTION:Emanuel Helg studierte an der Musikhochschule in Zürich mit Ha
 uptfach Orgel bei Rudolf Scheidegger. Wichtige Impulse erhielt er auch von
  Bernhard Ruchti (Klavier) und Rudolf Meyer (Orgel).  Zudem schloss er be
 i Karl-Andreas Kolly an der Musikhochschule Winterthur ein Klavierstudium 
 ab.\nNachdem Emanuel Helg während vierzehn Jahren als Musiker in der Kath
 olischen Kirchgemeinde Weinfelden tätig war\, wurde er 2011 zum Hauptorga
 nisten der katholischen Stadtkirche St. Nikolaus in Frauenfeld gewählt. S
 eit 2013 betreut er als Kirchenmusikdirektor das musikalische Geschehen de
 r Pfarrei St. Anna. 
LOCATION:Katholische Stadtkirche St. Nikolaus\, Zürchestrasse 181\, 8500 F
 rauenfeld
DTSTART;TZID=Europe/Zurich:20261004T170000
DTEND;TZID=Europe/Zurich:20261004T170000
ORGANIZER:Frauenfelder-Abendmusiken
END:VEVENT
END:VCALENDAR
