BEGIN:VCALENDAR
VERSION:2.0
PRODID:-//Sabre//Sabre VObject 4.5.8//EN
CALSCALE:GREGORIAN
BEGIN:VEVENT
UID:sabre-vobject-cf745a2f-bf4d-4c81-8a43-4ad50a430dd1
DTSTAMP:20260421T143443Z
SUMMARY:Neujahrskonzert - The Golden Renaissance
DESCRIPTION:Stile Antico ist fest als eines der erfolgreichsten und innovat
 ivsten Vokalensembles der Welt etabliert. Der Name war und ist Programm\, 
 denn die im «alten Stil» komponierte Vokalmusik der englischen\, flämis
 chen und spanischen Renaissance und des Frühbarock ist der Kern ihrer Arb
 eit.\nDie zwölf Mitglieder fesseln ihre Zuhörer:innen durch Vitalität u
 nd spürbare Begeisterung. Erstaunlich ist auf den ersten Blick\, dass das
  Ensemble ohne Dirigenten auskommt. Die Sänger von Stile Antico verstehen
  sich als gleichberechtigte Kammermusiker\, die sich die musikalischen Erg
 ebnisse gemeinsam erarbeiten. 
LOCATION:Katholische Stadtkirche St. Nikolaus\, Zürchestrasse 181\, 8500 F
 rauenfeld
DTSTART;TZID=Europe/Zurich:20270101T170000
DTEND;TZID=Europe/Zurich:20270101T170000
ORGANIZER:Frauenfelder-Abendmusiken
END:VEVENT
END:VCALENDAR
