BEGIN:VCALENDAR
VERSION:2.0
PRODID:-//Sabre//Sabre VObject 4.5.8//EN
CALSCALE:GREGORIAN
BEGIN:VEVENT
UID:sabre-vobject-c2d68815-2c1b-44fe-9a51-2a940125b9bf
DTSTAMP:20260421T122351Z
SUMMARY:Katja Baumann - Das Schweigen der Helden
DESCRIPTION:Was geschieht\, wenn ein altes Märchen in unsere Zeit hineinw
 ächst und wenn Märchenfiguren keine Lust mehr haben\, ihre Rollen zu spi
 elen? «Das Schweigen der Helden» ist eine poetisch-humorvolle Märchenpa
 rodie über Identität\, Liebe und Mut\, Selbstbestimmung und die Kraft de
 r inneren Stimme. Das Stück greift die Geschichte von Jorinde und Joringe
 l neu auf und erzählt sie überraschend aktuell.\nJorinde weigert sich\, 
 weiterhin das hilflose Opfer zu sein. Joringel träumt von einer glanzvoll
 en Heldenkarriere – vielleicht sogar von einer eigenen Show. Und die Erz
 zauberin\, lange auf ihre Rolle als Gegenspielerin reduziert\, fordert end
 lich Tiefe\, Verständnis und Anerkennung.\nWas folgt\, ist ein anarchisch
 es Spiel um Rollenbilder\, Erzählmacht und Selbstinszenierung: Casting-Sh
 ows treffen auf Märchenwald\, Sitcom-Momente auf poetische Bilder\, leise
 r Zweifel auf laute Selbstbehauptung.\nZwischen Märchenwelt und Gegenwart
  entsteht eine bildstarke Theatererzählung. Schauspiel\, Figurenspiel\, M
 usik und Videoprojektionen verweben sich zu einer sinnlichen Erzählung ü
 ber Selbstbestimmung\, Liebe und das Ringen um Freiheit in festgefahrenen 
 Rollenbildern. Die Figur des Herrn Grimm führt mit Witz und feiner Poesie
  durch eine Geschichte\, die sich neu ordnet\, um weiterzuleben.\nKasse un
 d Bar ab 19:15 Uhr.
LOCATION:Theaterhaus Thurgau\, Lagerstrasse 3\, 8570 Weinfelden
DTSTART;TZID=Europe/Zurich:20260502T201500
DTEND;TZID=Europe/Zurich:20260502T220000
ORGANIZER:Kulturverein Frohsinn
END:VEVENT
END:VCALENDAR
