BEGIN:VCALENDAR
VERSION:2.0
PRODID:-//Sabre//Sabre VObject 4.5.8//EN
CALSCALE:GREGORIAN
BEGIN:VEVENT
UID:sabre-vobject-5c8bb62e-9b13-4954-b7c2-7d5a09106a7f
DTSTAMP:20260421T091222Z
SUMMARY:Theaterwerkstatt U16 - Die Gangster-Omas
DESCRIPTION:Es ist 2026 und ausser Aktivierungstherapie ist im Altersheim n
 ix los. Da kommt schon mal Nostalgie auf. Diese bittersüsse Emotion\, die
  durch Musik\, Gerüche oder Gegenstände ausgelöst werden kann und Erinn
 erungen hochholt\, hilft den Freundinnen\, die sich aus den Kinderzeiten k
 ennen\, ihre langen Tage erträglich zu machen.\n\\nGut\, dass das\, was d
 a zu Tage kommt\, als sie sich in ihren Teenagerjahren auf die Suche nach 
 ihrer Identität machten\, heute verjährt ist …\nKasse und Bar ab 18:15
  Uhr.
LOCATION:Theaterhaus Thurgau\, Lagerstrasse 3\, 8570 Weinfelden
DTSTART;TZID=Europe/Zurich:20260606T191500
DTEND;TZID=Europe/Zurich:20260606T210000
ORGANIZER:Theater Bilitz
END:VEVENT
END:VCALENDAR
