BEGIN:VCALENDAR
VERSION:2.0
PRODID:-//Sabre//Sabre VObject 4.5.8//EN
CALSCALE:GREGORIAN
BEGIN:VEVENT
UID:sabre-vobject-b2e76a5d-9f21-4164-a52b-5ee50e118fff
DTSTAMP:20260421T102511Z
SUMMARY:Unerhört unerforscht
DESCRIPTION:Auftakt zum Ausstellungs- und Sammlungsprojekt: Es werden neue 
 Objektgeschichten erzählt\, auch solche\, die über Kreuzlingen hinausgeh
 en und Forschergeist sowie Entdeckerfreude anregen. Ein Einblick in die Si
 tuation im Depot und die Herausforderungen des Museums wird gegeben. Ankn
 üpfend an die Ausstellung «Stadtlabor» 2023/24 besteht die Möglichkeit
 \, sich in der Sammlungsarbeit als «Bürgerwissenschaftlerinnen und Bürg
 erwissenschaftler» zu engagieren.
LOCATION:Museum Rosenegg\, Bärenstrasse 6\, 8280 Kreuzlingen
DTSTART;TZID=Europe/Zurich:20260529T190000
DTEND;TZID=Europe/Zurich:20260529T190000
ORGANIZER:Museum Rosenegg
END:VEVENT
END:VCALENDAR
