BEGIN:VCALENDAR
VERSION:2.0
PRODID:-//Sabre//Sabre VObject 4.5.8//EN
CALSCALE:GREGORIAN
BEGIN:VEVENT
UID:sabre-vobject-49127363-407b-4575-9404-a3ff44bf2b76
DTSTAMP:20260421T085708Z
SUMMARY:Resonanz - Doppelausstellung
DESCRIPTION:«Resonanz» steht für die Wechselwirkung zwischen Bild und Be
 trachtenden als auch für die gegenseitige kreative Inspiration der zwei M
 alerinnen im gemeinsamen Atelier.
LOCATION:Galerie Fafou\, Freudenbergstrasse 1\, 9242 Oberuzwil
DTSTART;TZID=Europe/Zurich:20260503T140100
DTEND;TZID=Europe/Zurich:20260503T170000
ORGANIZER:Galerie Fafou
END:VEVENT
END:VCALENDAR
