BEGIN:VCALENDAR
VERSION:2.0
PRODID:-//Sabre//Sabre VObject 4.5.8//EN
CALSCALE:GREGORIAN
BEGIN:VEVENT
UID:sabre-vobject-4d199b8c-c9e2-40c1-b209-4d052d5f8bdc
DTSTAMP:20260421T091220Z
SUMMARY:Resonanz - Doppelausstellung
DESCRIPTION:«Resonanz» steht für die Wechselwirkung zwischen Bild und Be
 trachtenden als auch für die gegenseitige kreative Inspiration der zwei M
 alerinnen im gemeinsamen Atelier.
LOCATION:Galerie Fafou\, Freudenbergstrasse 1\, 9242 Oberuzwil
DTSTART;TZID=Europe/Zurich:20260502T140000
DTEND;TZID=Europe/Zurich:20260502T170000
ORGANIZER:Galerie Fafou
END:VEVENT
END:VCALENDAR
