BEGIN:VCALENDAR
VERSION:2.0
PRODID:-//Sabre//Sabre VObject 4.5.8//EN
CALSCALE:GREGORIAN
BEGIN:VEVENT
UID:sabre-vobject-998cb246-ef0e-4edf-a0ce-9e5b5ca03d79
DTSTAMP:20260421T131104Z
SUMMARY:Resonanz - Doppelausstellung
DESCRIPTION:«Resonanz» steht für die Wechselwirkung zwischen Bild und Be
 trachtenden als auch für die gegenseitige kreative Inspiration der zwei M
 alerinnen im gemeinsamen Atelier.
LOCATION:Galerie Fafou\, Freudenbergstrasse 1\, 9242 Oberuzwil
DTSTART;TZID=Europe/Zurich:20260425T140000
DTEND;TZID=Europe/Zurich:20260425T170000
ORGANIZER:Galerie Fafou
END:VEVENT
END:VCALENDAR
