BEGIN:VCALENDAR
VERSION:2.0
PRODID:-//Sabre//Sabre VObject 4.5.8//EN
CALSCALE:GREGORIAN
BEGIN:VEVENT
UID:sabre-vobject-61f59012-aaa5-469f-a22b-5daa4372e9c2
DTSTAMP:20260421T091222Z
SUMMARY:Resonanz - Doppelausstellung
DESCRIPTION:«Resonanz» steht für die Wechselwirkung zwischen Bild und Be
 trachtenden als auch für die gegenseitige kreative Inspiration der zwei M
 alerinnen im gemeinsamen Atelier.
LOCATION:Galerie Fafou\, Freudenbergstrasse 1\, 9242 Oberuzwil
DTSTART;TZID=Europe/Zurich:20260424T190000
DTEND;TZID=Europe/Zurich:20260424T220000
ORGANIZER:Galerie Fafou
END:VEVENT
END:VCALENDAR
