BEGIN:VCALENDAR
VERSION:2.0
PRODID:-//Sabre//Sabre VObject 4.5.8//EN
CALSCALE:GREGORIAN
BEGIN:VEVENT
UID:sabre-vobject-9a4949e6-fed6-4553-b2a4-428765e1713f
DTSTAMP:20260421T123812Z
SUMMARY:TAROT-Festival am Bodensee - The Heart & Science of Tarot
DESCRIPTION:The Heart &amp\; Science of Tarot bietet eine Erlebniszeit mit 
 hochkarätigen Referenten aus Deutschland\, der Schweiz\, Frankreich\, Eng
 land\, der Türkei und den Niederlanden.\nBildungsurlaub oder Gemeinschaft
  feiern\, Fortbildung und Unterhaltung gehen Hand in Hand. Herz und Versta
 nd werden angesprochen. TAROT wird lebendig erfahrbar. Auch Spielkartenfre
 unde kommen auf ihre Kosten. Mit TAROT-Größen wie Andrea Aste\, Armin De
 nner\, Ernst Ott\, Ivana Drobek\, und Ragna Axen\, Tarot-Spezialisten wie 
 Nil Orange und Robert Seidel und Newcomerin Cécile Bouve.\nDarüber hinau
 s werden Akrons langjährige Weggefährtin Lussia Zäch\, Cego-Experte Ach
 im Laber mit Heimatkünstlerin Fox Schwörer und Historikerin Dr. Sabine A
 bele-Hipp begeistern.\nDie Besucher:innen reisen in magische Welten zwisch
 en den Dimensionen\, tauchen ein in erstaunliche Biographien und entdecken
  Dimensionen des Tarot von Kunst über Deutung und Spiel bis Kabbala. Inte
 ressierte hören von den Lebenden und den Toten\; auch Akron und Hermann H
 aindl kommen zu Wort. 
LOCATION:Eisenbahner-Sportverein Konstanz e. V.\, Hafenstraße 14\, 78462 K
 onstanz
DTSTART;TZID=Europe/Zurich:20261024T000000
DTEND;TZID=Europe/Zurich:20261024T000000
ORGANIZER:Ragna Axen
END:VEVENT
END:VCALENDAR
